BEGIN:VCALENDAR
VERSION:2.0
PRODID:-//RAF Lakenheath - ECPv6.15.20//NONSGML v1.0//EN
CALSCALE:GREGORIAN
METHOD:PUBLISH
X-WR-CALNAME:RAF Lakenheath
X-ORIGINAL-URL:https://lakenheathfss.com
X-WR-CALDESC:Events for RAF Lakenheath
REFRESH-INTERVAL;VALUE=DURATION:PT1H
X-Robots-Tag:noindex
X-PUBLISHED-TTL:PT1H
BEGIN:VTIMEZONE
TZID:UTC
BEGIN:STANDARD
TZOFFSETFROM:+0000
TZOFFSETTO:+0000
TZNAME:UTC
DTSTART:20250101T000000
END:STANDARD
END:VTIMEZONE
BEGIN:VEVENT
DTSTART;TZID=UTC:20260423T110000
DTEND;TZID=UTC:20260423T133000
DTSTAMP:20260423T115733
CREATED:20251114T093755Z
LAST-MODIFIED:20251119T113257Z
UID:10003505-1776942000-1776951000@lakenheathfss.com
SUMMARY:Liberty Club Lunch Buffet: Southern
DESCRIPTION:Head on over to the Liberty Club Grill for a delicious American classic\, Southern food. \n11am – 1:30pm\nAdults $14.95 · Children (5-12) $8.95 · 4 & under eat free!
URL:https://lakenheathfss.com/event/liberty-club-lunch-buffet-southern-2/2026-04-23/
CATEGORIES:Food,The Bistro,The Grill
ATTACH;FMTTYPE=image/jpeg:https://lakenheathfss.com/wp-content/uploads/2025/11/southern-buffet_nov-2025_300__calendar.jpg
END:VEVENT
BEGIN:VEVENT
DTSTART;TZID=UTC:20260424T000000
DTEND;TZID=UTC:20260424T000000
DTSTAMP:20260423T115733
CREATED:20260401T111733Z
LAST-MODIFIED:20260401T121301Z
UID:10004513-1776988800-1776988800@lakenheathfss.com
SUMMARY:MoMC Bowling Special
DESCRIPTION:Fridays • April 3\, 10\, 17\, & 24\n12pm – 6pm \nRoll into April with $3.95 shoe rental every Friday to celebrate Month of the Military Child!
URL:https://lakenheathfss.com/event/momc-bowling-special/2026-04-24/
CATEGORIES:Bowling Center
END:VEVENT
BEGIN:VEVENT
DTSTART;TZID=UTC:20260424T150000
DTEND;TZID=UTC:20260424T180000
DTSTAMP:20260423T115733
CREATED:20260108T103321Z
LAST-MODIFIED:20260121T154602Z
UID:10003775-1777042800-1777053600@lakenheathfss.com
SUMMARY:Open Skate
DESCRIPTION:Let your worries roll away during an Open Skate! Our skating rink is even more fun\, witha fabulous new sound system and party lights! \nSkating $8 | Skate Rental $2
URL:https://lakenheathfss.com/event/fridays-open-skate/2026-04-24/
LOCATION:Page Community Center
CATEGORIES:Community & Event Centers
ATTACH;FMTTYPE=image/jpeg:https://lakenheathfss.com/wp-content/uploads/2026/01/skating-page_brown.jpg
END:VEVENT
BEGIN:VEVENT
DTSTART;TZID=UTC:20260424T203000
DTEND;TZID=UTC:20260424T230000
DTSTAMP:20260423T115733
CREATED:20260227T154535Z
LAST-MODIFIED:20260227T154535Z
UID:10004407-1777062600-1777071600@lakenheathfss.com
SUMMARY:Wing Night
DESCRIPTION:Chicken wing\, chicken wing… Grab your friends and just $9.25 to get a plate of delicious mouth-water wings. Choose from: hot\, BBQ\, sweet chili\, garlic parmesan\, or lemon pepper. \nWings are available until 11pm\, but The Bar will be open until 1am!
URL:https://lakenheathfss.com/event/wing-night-fri-2/2026-04-24/
LOCATION:Liberty Club Bar
CATEGORIES:Liberty Club
ATTACH;FMTTYPE=image/jpeg:https://lakenheathfss.com/wp-content/uploads/2025/03/wing-night-lib-club.jpg
END:VEVENT
BEGIN:VEVENT
DTSTART;VALUE=DATE:20260425
DTEND;VALUE=DATE:20260426
DTSTAMP:20260423T115733
CREATED:20260401T110154Z
LAST-MODIFIED:20260401T110154Z
UID:10004508-1777075200-1777161599@lakenheathfss.com
SUMMARY:Stratford-upon-Avon: Shakespeare's Birthday
DESCRIPTION:Saturday • April 25\nAdult £33 | Child (3-14) £31 | Infant £20\nIncludes transportation \nBook now!
URL:https://lakenheathfss.com/event/stratford-upon-avon-shakespeares-birthday/
CATEGORIES:ITT
ORGANIZER;CN="Information%2C Tickets%2C & Travel (ITT)":MAILTO:ittlakenheath@gmail.com
END:VEVENT
BEGIN:VEVENT
DTSTART;TZID=UTC:20260425T100000
DTEND;TZID=UTC:20260425T130000
DTSTAMP:20260423T115733
CREATED:20260108T103844Z
LAST-MODIFIED:20260226T093031Z
UID:10004088-1777111200-1777122000@lakenheathfss.com
SUMMARY:Open Skate
DESCRIPTION:Let your worries roll away during an Open Skate! Our skating rink is even more fun\, with a fabulous new sound system and party lights! \nSkating $8 | Skate Rental $2
URL:https://lakenheathfss.com/event/saturdays-open-skate/2026-04-25/
LOCATION:Page Community Center
CATEGORIES:Community & Event Centers
ATTACH;FMTTYPE=image/jpeg:https://lakenheathfss.com/wp-content/uploads/2026/01/skating-page_pink.jpg
END:VEVENT
BEGIN:VEVENT
DTSTART;TZID=UTC:20260425T110000
DTEND;TZID=UTC:20260425T140000
DTSTAMP:20260423T115733
CREATED:20260330T104722Z
LAST-MODIFIED:20260413T142213Z
UID:10004483-1777114800-1777125600@lakenheathfss.com
SUMMARY:Chunky Knit Blanket Making
DESCRIPTION:Saturday • April 25\n11am – 2pm\n$85 | Ages 12+ \nSign up by Thursday\, April 23 \n 
URL:https://lakenheathfss.com/event/chunky-knit-blanket-making-2/
LOCATION:Arts & Crafts
CATEGORIES:Arts & Crafts Center,Home Page
ATTACH;FMTTYPE=image/jpeg:https://lakenheathfss.com/wp-content/uploads/2026/03/chunky-blanket-evg.jpg
END:VEVENT
BEGIN:VEVENT
DTSTART;TZID=UTC:20260425T130000
DTEND;TZID=UTC:20260425T150000
DTSTAMP:20260423T115733
CREATED:20260415T124015Z
LAST-MODIFIED:20260415T124938Z
UID:10004616-1777122000-1777129200@lakenheathfss.com
SUMMARY:KUDOS (Kids Understanding Deployment Operations)
DESCRIPTION:Saturday • April 25\n1pm – 3pm\nRAF Mildenhall’s Southside fields & pavilion (near Hangar 814) \nFREE EVENT!
URL:https://lakenheathfss.com/event/kudos-kids-understanding-deployment-operations/
LOCATION:RAF Mildenhall
CATEGORIES:Child & Youth,Home Page,MFRC,School Liaison Program
ATTACH;FMTTYPE=image/jpeg:https://lakenheathfss.com/wp-content/uploads/2026/04/kudos_calendar-scaled.jpg
END:VEVENT
BEGIN:VEVENT
DTSTART;TZID=UTC:20260425T210000
DTEND;TZID=UTC:20260426T020000
DTSTAMP:20260423T115733
CREATED:20250313T093533Z
LAST-MODIFIED:20260409T081753Z
UID:10003369-1777150800-1777168800@lakenheathfss.com
SUMMARY:Boots\, Bull\, & Beats
DESCRIPTION:Bring your Southern charm and a little two steppin’ to brighten up the night! \nFree entry | Corn hole | Line dancing | $5 pulled pork sandwiches
URL:https://lakenheathfss.com/event/country-night-4/2026-04-25/
LOCATION:Liberty Club Bar
CATEGORIES:Liberty Club
ATTACH;FMTTYPE=image/jpeg:https://lakenheathfss.com/wp-content/uploads/2025/03/country-night-lib-club.jpg
END:VEVENT
BEGIN:VEVENT
DTSTART;VALUE=DATE:20260426
DTEND;VALUE=DATE:20260427
DTSTAMP:20260423T115733
CREATED:20260401T105359Z
LAST-MODIFIED:20260401T105359Z
UID:10004505-1777161600-1777247999@lakenheathfss.com
SUMMARY:London DYO
DESCRIPTION:Sunday • April 26\nAdult £37 | Child (3-14) £35 | Infant £20\nIncludes transportation \nBook now!
URL:https://lakenheathfss.com/event/london-dyo-2/
CATEGORIES:ITT
ORGANIZER;CN="Information%2C Tickets%2C & Travel (ITT)":MAILTO:ittlakenheath@gmail.com
END:VEVENT
BEGIN:VEVENT
DTSTART;TZID=UTC:20260429T073000
DTEND;TZID=UTC:20260429T173000
DTSTAMP:20260423T115733
CREATED:20260107T125051Z
LAST-MODIFIED:20260107T125051Z
UID:10003610-1777447800-1777483800@lakenheathfss.com
SUMMARY:Save $10 on Parts & Services
DESCRIPTION:Available all January \nWhether your car needs a routine service\, new tires for slick roads\, or new parts to keep it road-ready\, you can start the year off with savings at Auto Hobby! This January\, save $10 on any project over $100.
URL:https://lakenheathfss.com/event/save-10-on-parts-services/2026-04-29/
LOCATION:Auto Hobby
CATEGORIES:Auto Hobby
ATTACH;FMTTYPE=image/jpeg:https://lakenheathfss.com/wp-content/uploads/2026/01/Auto-Hobby-scaled.jpg
END:VEVENT
BEGIN:VEVENT
DTSTART;TZID=UTC:20260429T140000
DTEND;TZID=UTC:20260429T170000
DTSTAMP:20260423T115733
CREATED:20260108T103122Z
LAST-MODIFIED:20260121T154650Z
UID:10003671-1777471200-1777482000@lakenheathfss.com
SUMMARY:Open Skate
DESCRIPTION:Let your worries roll away during an Open Skate! Our skating rink is even more fun\, witha fabulous new sound system and party lights! \nSkating $8 | Skate Rental $2
URL:https://lakenheathfss.com/event/wednesdays-open-skate/2026-04-29/
LOCATION:Page Community Center
CATEGORIES:Community & Event Centers
ATTACH;FMTTYPE=image/jpeg:https://lakenheathfss.com/wp-content/uploads/2026/01/skating-page_red.jpg
END:VEVENT
BEGIN:VEVENT
DTSTART;TZID=UTC:20260430T110000
DTEND;TZID=UTC:20260430T133000
DTSTAMP:20260423T115733
CREATED:20251114T093755Z
LAST-MODIFIED:20251119T113257Z
UID:10003506-1777546800-1777555800@lakenheathfss.com
SUMMARY:Liberty Club Lunch Buffet: Southern
DESCRIPTION:Head on over to the Liberty Club Grill for a delicious American classic\, Southern food. \n11am – 1:30pm\nAdults $14.95 · Children (5-12) $8.95 · 4 & under eat free!
URL:https://lakenheathfss.com/event/liberty-club-lunch-buffet-southern-2/2026-04-30/
CATEGORIES:Food,The Bistro,The Grill
ATTACH;FMTTYPE=image/jpeg:https://lakenheathfss.com/wp-content/uploads/2025/11/southern-buffet_nov-2025_300__calendar.jpg
END:VEVENT
BEGIN:VEVENT
DTSTART;TZID=UTC:20260430T180000
DTEND;TZID=UTC:20260430T200000
DTSTAMP:20260423T115733
CREATED:20260330T105055Z
LAST-MODIFIED:20260413T142327Z
UID:10004484-1777572000-1777579200@lakenheathfss.com
SUMMARY:Canvas Painting: Sunset
DESCRIPTION:Thursday • April 30\n6pm – 8pm\n$30 | Ages 10+ \nSign up by Tuesday\, April 28
URL:https://lakenheathfss.com/event/canvas-painting-sunset/
LOCATION:Arts & Crafts
CATEGORIES:Arts & Crafts Center,Home Page
ATTACH;FMTTYPE=image/png:https://lakenheathfss.com/wp-content/uploads/2026/03/canvas-paint-sunset-scaled.png
END:VEVENT
BEGIN:VEVENT
DTSTART;TZID=UTC:20260501T000000
DTEND;TZID=UTC:20260501T000000
DTSTAMP:20260423T115733
CREATED:20260401T111733Z
LAST-MODIFIED:20260401T121301Z
UID:10004514-1777593600-1777593600@lakenheathfss.com
SUMMARY:MoMC Bowling Special
DESCRIPTION:Fridays • April 3\, 10\, 17\, & 24\n12pm – 6pm \nRoll into April with $3.95 shoe rental every Friday to celebrate Month of the Military Child!
URL:https://lakenheathfss.com/event/momc-bowling-special/2026-05-01/
CATEGORIES:Bowling Center
END:VEVENT
BEGIN:VEVENT
DTSTART;TZID=UTC:20260501T063000
DTEND;TZID=UTC:20260501T103000
DTSTAMP:20260423T115733
CREATED:20251114T100218Z
LAST-MODIFIED:20260401T125328Z
UID:10003539-1777617000-1777631400@lakenheathfss.com
SUMMARY:Michelle's Sweet Treats
DESCRIPTION:Ooey-gooey cinnamon rolls on Friday morning are definitely the breakfast of “we-made-it” champions. \nHave a large order? Pre-order breakfast treats for your office or shop by calling 01638 52 1611 today!
URL:https://lakenheathfss.com/event/michelles-sweet-treats/2026-05-01/
LOCATION:Liberty Club Bistro\, Chester St\, Lakenheath\, United Kingdom
CATEGORIES:Food,Home Page,The Bistro
ATTACH;FMTTYPE=image/jpeg:https://lakenheathfss.com/wp-content/uploads/2025/11/cinnamon-rolls-calendar-scaled.jpg
END:VEVENT
BEGIN:VEVENT
DTSTART;TZID=UTC:20260501T150000
DTEND;TZID=UTC:20260501T180000
DTSTAMP:20260423T115733
CREATED:20260108T103321Z
LAST-MODIFIED:20260121T154602Z
UID:10003776-1777647600-1777658400@lakenheathfss.com
SUMMARY:Open Skate
DESCRIPTION:Let your worries roll away during an Open Skate! Our skating rink is even more fun\, witha fabulous new sound system and party lights! \nSkating $8 | Skate Rental $2
URL:https://lakenheathfss.com/event/fridays-open-skate/2026-05-01/
LOCATION:Page Community Center
CATEGORIES:Community & Event Centers
ATTACH;FMTTYPE=image/jpeg:https://lakenheathfss.com/wp-content/uploads/2026/01/skating-page_brown.jpg
END:VEVENT
BEGIN:VEVENT
DTSTART;TZID=UTC:20260501T203000
DTEND;TZID=UTC:20260501T230000
DTSTAMP:20260423T115733
CREATED:20260227T154535Z
LAST-MODIFIED:20260227T154535Z
UID:10004408-1777667400-1777676400@lakenheathfss.com
SUMMARY:Wing Night
DESCRIPTION:Chicken wing\, chicken wing… Grab your friends and just $9.25 to get a plate of delicious mouth-water wings. Choose from: hot\, BBQ\, sweet chili\, garlic parmesan\, or lemon pepper. \nWings are available until 11pm\, but The Bar will be open until 1am!
URL:https://lakenheathfss.com/event/wing-night-fri-2/2026-05-01/
LOCATION:Liberty Club Bar
CATEGORIES:Liberty Club
ATTACH;FMTTYPE=image/jpeg:https://lakenheathfss.com/wp-content/uploads/2025/03/wing-night-lib-club.jpg
END:VEVENT
BEGIN:VEVENT
DTSTART;TZID=UTC:20260502T210000
DTEND;TZID=UTC:20260502T210000
DTSTAMP:20260423T115733
CREATED:20250313T095532Z
LAST-MODIFIED:20250313T095905Z
UID:10003275-1777755600-1777755600@lakenheathfss.com
SUMMARY:Karaoke Night
DESCRIPTION:Who needs a stage when you have a karaoke machine? \nFree entry | Huge selection of songs: Online karaoke | KaraFun
URL:https://lakenheathfss.com/event/karaoke-night-1/2026-05-02/
LOCATION:Liberty Club Bar
CATEGORIES:Liberty Club
ATTACH;FMTTYPE=image/jpeg:https://lakenheathfss.com/wp-content/uploads/2025/03/karaoke-night-lib-club.jpg
END:VEVENT
BEGIN:VEVENT
DTSTART;TZID=UTC:20260502T210000
DTEND;TZID=UTC:20260503T020000
DTSTAMP:20260423T115733
CREATED:20260226T152805Z
LAST-MODIFIED:20260226T152805Z
UID:10003363-1777755600-1777773600@lakenheathfss.com
SUMMARY:Latin Night
DESCRIPTION:The Liberty Club is bringing the rhythm\, the spice\, and just the right amount of chaos to the dance floor. It’s Latin Night\, baby — where the hips don’t lie and neither do the vibes. \nFrom salsa to reggaetón\, bachata to Latin pop\, our DJ is serving nonstop bangers that’ll have you saying “just one more song” at least 12 times. Whether you’re a seasoned salsero or just here to dramatically sip a mojito and look mysterious\, this is your night. \nFree entry • Live DJ • On-site dance instructor
URL:https://lakenheathfss.com/event/latin-night-2-2/2026-05-02/
LOCATION:Liberty Club Bar
CATEGORIES:Liberty Club
ATTACH;FMTTYPE=image/jpeg:https://lakenheathfss.com/wp-content/uploads/2025/03/Latin-Night-Calendar-scaled.jpg
END:VEVENT
BEGIN:VEVENT
DTSTART;TZID=UTC:20260505T180000
DTEND;TZID=UTC:20260505T200000
DTSTAMP:20260423T115733
CREATED:20260330T105827Z
LAST-MODIFIED:20260413T142339Z
UID:10004485-1778004000-1778011200@lakenheathfss.com
SUMMARY:Canvas Painting: Paint Your Pet
DESCRIPTION:Tuesday • May 5\n6pm – 8pm\n$30 | Ages 14+ \nSign up by Tuesday\, April 28
URL:https://lakenheathfss.com/event/canvas-painting-pet/
LOCATION:Arts & Crafts
CATEGORIES:Arts & Crafts Center,Home Page
ATTACH;FMTTYPE=image/jpeg:https://lakenheathfss.com/wp-content/uploads/2026/03/painting-evg.jpg
END:VEVENT
BEGIN:VEVENT
DTSTART;TZID=UTC:20260506T073000
DTEND;TZID=UTC:20260506T173000
DTSTAMP:20260423T115733
CREATED:20260107T125051Z
LAST-MODIFIED:20260107T125051Z
UID:10003611-1778052600-1778088600@lakenheathfss.com
SUMMARY:Save $10 on Parts & Services
DESCRIPTION:Available all January \nWhether your car needs a routine service\, new tires for slick roads\, or new parts to keep it road-ready\, you can start the year off with savings at Auto Hobby! This January\, save $10 on any project over $100.
URL:https://lakenheathfss.com/event/save-10-on-parts-services/2026-05-06/
LOCATION:Auto Hobby
CATEGORIES:Auto Hobby
ATTACH;FMTTYPE=image/jpeg:https://lakenheathfss.com/wp-content/uploads/2026/01/Auto-Hobby-scaled.jpg
END:VEVENT
BEGIN:VEVENT
DTSTART;TZID=UTC:20260506T140000
DTEND;TZID=UTC:20260506T170000
DTSTAMP:20260423T115733
CREATED:20260108T103122Z
LAST-MODIFIED:20260121T154650Z
UID:10003672-1778076000-1778086800@lakenheathfss.com
SUMMARY:Open Skate
DESCRIPTION:Let your worries roll away during an Open Skate! Our skating rink is even more fun\, witha fabulous new sound system and party lights! \nSkating $8 | Skate Rental $2
URL:https://lakenheathfss.com/event/wednesdays-open-skate/2026-05-06/
LOCATION:Page Community Center
CATEGORIES:Community & Event Centers
ATTACH;FMTTYPE=image/jpeg:https://lakenheathfss.com/wp-content/uploads/2026/01/skating-page_red.jpg
END:VEVENT
BEGIN:VEVENT
DTSTART;TZID=UTC:20260507T110000
DTEND;TZID=UTC:20260507T133000
DTSTAMP:20260423T115733
CREATED:20251114T093755Z
LAST-MODIFIED:20251119T113257Z
UID:10003507-1778151600-1778160600@lakenheathfss.com
SUMMARY:Liberty Club Lunch Buffet: Southern
DESCRIPTION:Head on over to the Liberty Club Grill for a delicious American classic\, Southern food. \n11am – 1:30pm\nAdults $14.95 · Children (5-12) $8.95 · 4 & under eat free!
URL:https://lakenheathfss.com/event/liberty-club-lunch-buffet-southern-2/2026-05-07/
CATEGORIES:Food,The Bistro,The Grill
ATTACH;FMTTYPE=image/jpeg:https://lakenheathfss.com/wp-content/uploads/2025/11/southern-buffet_nov-2025_300__calendar.jpg
END:VEVENT
BEGIN:VEVENT
DTSTART;TZID=UTC:20260508T000000
DTEND;TZID=UTC:20260508T000000
DTSTAMP:20260423T115733
CREATED:20260401T111733Z
LAST-MODIFIED:20260401T121301Z
UID:10004515-1778198400-1778198400@lakenheathfss.com
SUMMARY:MoMC Bowling Special
DESCRIPTION:Fridays • April 3\, 10\, 17\, & 24\n12pm – 6pm \nRoll into April with $3.95 shoe rental every Friday to celebrate Month of the Military Child!
URL:https://lakenheathfss.com/event/momc-bowling-special/2026-05-08/
CATEGORIES:Bowling Center
END:VEVENT
BEGIN:VEVENT
DTSTART;TZID=UTC:20260508T150000
DTEND;TZID=UTC:20260508T180000
DTSTAMP:20260423T115733
CREATED:20260108T103321Z
LAST-MODIFIED:20260121T154602Z
UID:10003777-1778252400-1778263200@lakenheathfss.com
SUMMARY:Open Skate
DESCRIPTION:Let your worries roll away during an Open Skate! Our skating rink is even more fun\, witha fabulous new sound system and party lights! \nSkating $8 | Skate Rental $2
URL:https://lakenheathfss.com/event/fridays-open-skate/2026-05-08/
LOCATION:Page Community Center
CATEGORIES:Community & Event Centers
ATTACH;FMTTYPE=image/jpeg:https://lakenheathfss.com/wp-content/uploads/2026/01/skating-page_brown.jpg
END:VEVENT
BEGIN:VEVENT
DTSTART;TZID=UTC:20260508T170000
DTEND;TZID=UTC:20260508T210000
DTSTAMP:20260423T115733
CREATED:20251205T112435Z
LAST-MODIFIED:20260401T124848Z
UID:10003558-1778259600-1778274000@lakenheathfss.com
SUMMARY:Big Bucks Bingo!
DESCRIPTION:$1000 in prizes! \nBig Bucks BingoEagles’ Landing Ballroom \nDoors open 5pm | Games start 6pm\n$30 for two books | $10 per additional book
URL:https://lakenheathfss.com/event/big-bucks-bingo/
LOCATION:Eagles’ Landing – Community Event Center
CATEGORIES:Eagles' Landing - Community Event Center,Home Page
ATTACH;FMTTYPE=image/jpeg:https://lakenheathfss.com/wp-content/uploads/2025/12/big-bucks-bingo_jan-30_300_calendar-scaled.jpg
END:VEVENT
BEGIN:VEVENT
DTSTART;TZID=UTC:20260508T203000
DTEND;TZID=UTC:20260508T230000
DTSTAMP:20260423T115733
CREATED:20260227T154535Z
LAST-MODIFIED:20260227T154535Z
UID:10004409-1778272200-1778281200@lakenheathfss.com
SUMMARY:Wing Night
DESCRIPTION:Chicken wing\, chicken wing… Grab your friends and just $9.25 to get a plate of delicious mouth-water wings. Choose from: hot\, BBQ\, sweet chili\, garlic parmesan\, or lemon pepper. \nWings are available until 11pm\, but The Bar will be open until 1am!
URL:https://lakenheathfss.com/event/wing-night-fri-2/2026-05-08/
LOCATION:Liberty Club Bar
CATEGORIES:Liberty Club
ATTACH;FMTTYPE=image/jpeg:https://lakenheathfss.com/wp-content/uploads/2025/03/wing-night-lib-club.jpg
END:VEVENT
BEGIN:VEVENT
DTSTART;TZID=UTC:20260509T100000
DTEND;TZID=UTC:20260509T160000
DTSTAMP:20260423T115733
CREATED:20260413T130717Z
LAST-MODIFIED:20260414T123907Z
UID:10004586-1778320800-1778342400@lakenheathfss.com
SUMMARY:Stained Glass: PYO
DESCRIPTION:Saturday • May 9\n10am – 4pm | $135 | Ages 18+\nSign up by Thursday\, May 7
URL:https://lakenheathfss.com/event/stained-glass-pyo/
LOCATION:Arts & Crafts
CATEGORIES:Arts & Crafts Center,Home Page
ATTACH;FMTTYPE=image/jpeg:https://lakenheathfss.com/wp-content/uploads/2026/03/stained-glass-evg.jpg
END:VEVENT
BEGIN:VEVENT
DTSTART;TZID=UTC:20260509T210000
DTEND;TZID=UTC:20260510T020000
DTSTAMP:20260423T115733
CREATED:20260402T091627Z
LAST-MODIFIED:20260409T075831Z
UID:10003296-1778360400-1778378400@lakenheathfss.com
SUMMARY:Boots\, Bull\, & Beats
DESCRIPTION:Bring your Southern charm and a little two steppin’ to brighten up the night! \nFree entry | Corn hole | Line dancing | Mechanical Bull | $5 pulled pork sandwiches
URL:https://lakenheathfss.com/event/country-night-2-2/2026-05-09/
LOCATION:Liberty Club Bar
CATEGORIES:Liberty Club
ATTACH;FMTTYPE=image/jpeg:https://lakenheathfss.com/wp-content/uploads/2025/03/BBB-Calendar-scaled.jpg
END:VEVENT
END:VCALENDAR