BEGIN:VCALENDAR
VERSION:2.0
PRODID:-//RAF Lakenheath - ECPv6.15.20//NONSGML v1.0//EN
CALSCALE:GREGORIAN
METHOD:PUBLISH
X-WR-CALNAME:RAF Lakenheath
X-ORIGINAL-URL:https://lakenheathfss.com
X-WR-CALDESC:Events for RAF Lakenheath
REFRESH-INTERVAL;VALUE=DURATION:PT1H
X-Robots-Tag:noindex
X-PUBLISHED-TTL:PT1H
BEGIN:VTIMEZONE
TZID:UTC
BEGIN:STANDARD
TZOFFSETFROM:+0000
TZOFFSETTO:+0000
TZNAME:UTC
DTSTART:20250101T000000
END:STANDARD
END:VTIMEZONE
BEGIN:VEVENT
DTSTART;TZID=UTC:20260723T180000
DTEND;TZID=UTC:20260723T200000
DTSTAMP:20260419T205831
CREATED:20260414T133800Z
LAST-MODIFIED:20260414T133800Z
UID:10004599-1784829600-1784836800@lakenheathfss.com
SUMMARY:Canvas Painting
DESCRIPTION:Thursday • July 23\n6pm – 8pm | $30 | Ages 8+\nSign up by Tuesday\, July 21
URL:https://lakenheathfss.com/event/canvas-painting-2/
LOCATION:Arts & Crafts
CATEGORIES:Arts & Crafts Center,Home Page
ATTACH;FMTTYPE=image/jpeg:https://lakenheathfss.com/wp-content/uploads/2026/04/AC_calendar-scaled.jpg
END:VEVENT
END:VCALENDAR