BEGIN:VCALENDAR
VERSION:2.0
PRODID:-//RAF Lakenheath - ECPv6.15.20//NONSGML v1.0//EN
CALSCALE:GREGORIAN
METHOD:PUBLISH
X-ORIGINAL-URL:https://lakenheathfss.com
X-WR-CALDESC:Events for RAF Lakenheath
REFRESH-INTERVAL;VALUE=DURATION:PT1H
X-Robots-Tag:noindex
X-PUBLISHED-TTL:PT1H
BEGIN:VTIMEZONE
TZID:UTC
BEGIN:STANDARD
TZOFFSETFROM:+0000
TZOFFSETTO:+0000
TZNAME:UTC
DTSTART:20250101T000000
END:STANDARD
END:VTIMEZONE
BEGIN:VEVENT
DTSTART;TZID=UTC:20260307T100000
DTEND;TZID=UTC:20260307T140000
DTSTAMP:20260419T180029
CREATED:20260304T103842Z
LAST-MODIFIED:20260304T103842Z
UID:10004455-1772877600-1772892000@lakenheathfss.com
SUMMARY:2026 Travel Fair
DESCRIPTION:Saturday •  March 7\n10am – 2pm | FREE entry\nEagles’ Landing CEC \nCome have fun and plan your next adventure! PLUS\, enter for a chance to win great prizes!
URL:https://lakenheathfss.com/event/2026-travel-fair/
LOCATION:Eagles’ Landing – Community Event Center
CATEGORIES:Eagles' Landing - Community Event Center,Home Page,Hot Events,ITT
ATTACH;FMTTYPE=image/jpeg:https://lakenheathfss.com/wp-content/uploads/2026/03/Travel-Fair-Calendar-scaled.jpg
ORGANIZER;CN="Information%2C Tickets%2C & Travel (ITT)":MAILTO:ittlakenheath@gmail.com
END:VEVENT
BEGIN:VEVENT
DTSTART;VALUE=DATE:20260321
DTEND;VALUE=DATE:20260322
DTSTAMP:20260419T180029
CREATED:20260218T143113Z
LAST-MODIFIED:20260218T143113Z
UID:10004321-1774051200-1774137599@lakenheathfss.com
SUMMARY:HOTM: Thor's Cave with Arts & Crafts
DESCRIPTION:Saturday · March 21\nAll $66 | Ages 10+\nExertion level: HIGH \nIncludes: transportation\, painting equipment\, and a guided hike
URL:https://lakenheathfss.com/event/hotm-thors-cave-with-arts-crafts/
CATEGORIES:Outdoor Recreation
ATTACH;FMTTYPE=image/jpeg:https://lakenheathfss.com/wp-content/uploads/2026/02/thors-cave_mar-21_calendar.jpg
END:VEVENT
BEGIN:VEVENT
DTSTART;VALUE=DATE:20260321
DTEND;VALUE=DATE:20260322
DTSTAMP:20260419T180029
CREATED:20260304T112710Z
LAST-MODIFIED:20260304T112710Z
UID:10004457-1774051200-1774137599@lakenheathfss.com
SUMMARY:Bolsover Castle & Sherwood Forest
DESCRIPTION:Saturday · March 21\nAdult £64 | Child (5-17) £57 | Infant £20 \nTransportation\, Bolsover Castle entry\, & free time in Sherwood Forest \nClick here to book!
URL:https://lakenheathfss.com/event/bolsover-castle-sherwood-forest/
CATEGORIES:ITT
ATTACH;FMTTYPE=image/jpeg:https://lakenheathfss.com/wp-content/uploads/2026/03/bolsover.jpg
END:VEVENT
END:VCALENDAR