BEGIN:VCALENDAR
VERSION:2.0
PRODID:-//RAF Lakenheath - ECPv6.15.20//NONSGML v1.0//EN
CALSCALE:GREGORIAN
METHOD:PUBLISH
X-WR-CALNAME:RAF Lakenheath
X-ORIGINAL-URL:https://lakenheathfss.com
X-WR-CALDESC:Events for RAF Lakenheath
REFRESH-INTERVAL;VALUE=DURATION:PT1H
X-Robots-Tag:noindex
X-PUBLISHED-TTL:PT1H
BEGIN:VTIMEZONE
TZID:UTC
BEGIN:STANDARD
TZOFFSETFROM:+0000
TZOFFSETTO:+0000
TZNAME:UTC
DTSTART:20250101T000000
END:STANDARD
END:VTIMEZONE
BEGIN:VEVENT
DTSTART;TZID=UTC:20260219T180000
DTEND;TZID=UTC:20260219T220000
DTSTAMP:20260420T081236
CREATED:20260107T123345Z
LAST-MODIFIED:20260107T123345Z
UID:10003593-1771524000-1771538400@lakenheathfss.com
SUMMARY:Trivia Night - Fast Food
DESCRIPTION:Thursday • February 19 | 6pm – 10pm\n18+ \nGather your team and join us for our next Trivia Night! February’s theme is ‘Fast Food’ and you better bring your A-game! Whether it’s from childhood memories\, late night binging\, or a fascination with the process\, come show off your knowledge of fast food! The winning team will receive bragging rights… and an FSS gift card!
URL:https://lakenheathfss.com/event/trivia-night-fast-food/
LOCATION:Liberty Club Bar
CATEGORIES:Liberty Club
ATTACH;FMTTYPE=image/jpeg:https://lakenheathfss.com/wp-content/uploads/2026/01/Club-Trivia-1-scaled.jpg
END:VEVENT
END:VCALENDAR